BEGIN:VCALENDAR
VERSION:2.0
PRODID:-//Grief to Grace - ECPv6.15.20//NONSGML v1.0//EN
CALSCALE:GREGORIAN
METHOD:PUBLISH
X-ORIGINAL-URL:https://dev.grieftograce.org
X-WR-CALDESC:Events for Grief to Grace
REFRESH-INTERVAL;VALUE=DURATION:PT1H
X-Robots-Tag:noindex
X-PUBLISHED-TTL:PT1H
BEGIN:VTIMEZONE
TZID:UTC
BEGIN:STANDARD
TZOFFSETFROM:+0000
TZOFFSETTO:+0000
TZNAME:UTC
DTSTART:20260101T000000
END:STANDARD
END:VTIMEZONE
BEGIN:VEVENT
DTSTART;VALUE=DATE:20270413
DTEND;VALUE=DATE:20270418
DTSTAMP:20260422T214547
CREATED:20250320T214647Z
LAST-MODIFIED:20250428T222855Z
UID:969-1807574400-1808006399@dev.grieftograce.org
SUMMARY:Grief to Grace Retreat | Lake Charles\, LA
DESCRIPTION:FOR MORE INFORMATION\, AND TO REGISTER: \nEMAIL: GRIEFTOGRACELOUISIANA@LCDIOCESE.ORG\nCALL: 337-489-2473 MARJORIE LONG
URL:https://dev.grieftograce.org/event/grief-to-grace-retreat-lake-charles-la-5/
CATEGORIES:USA Retreats
END:VEVENT
BEGIN:VEVENT
DTSTART;VALUE=DATE:20270503
DTEND;VALUE=DATE:20270510
DTSTAMP:20260422T214547
CREATED:20260410T182531Z
LAST-MODIFIED:20260410T182531Z
UID:2171-1809302400-1809907199@dev.grieftograce.org
SUMMARY:Grief to Grace Retreat | Chicago/Rockford\, IL
DESCRIPTION:Contact:  info@grieftogracerockford.org \nWebsite: www.grieftogracerockford.org \nCall: Libby Oleferchik | 815-354-7241
URL:https://dev.grieftograce.org/event/grief-to-grace-retreat-chicago-rockford-il/
CATEGORIES:USA Retreats
END:VEVENT
BEGIN:VEVENT
DTSTART;VALUE=DATE:20270914
DTEND;VALUE=DATE:20270919
DTSTAMP:20260422T214547
CREATED:20250320T214655Z
LAST-MODIFIED:20250428T230738Z
UID:970-1820880000-1821311999@dev.grieftograce.org
SUMMARY:Grief to Grace Retreat | Lake Charles\, LA
DESCRIPTION:FOR MORE INFORMATION\, AND TO REGISTER: \nEMAIL: GRIEFTOGRACELOUISIANA@LCDIOCESE.ORG\nCALL: 337-489-2473 MARJORIE LONG
URL:https://dev.grieftograce.org/event/grief-to-grace-retreat-lake-charles-la-6/
CATEGORIES:USA Retreats
END:VEVENT
BEGIN:VEVENT
DTSTART;VALUE=DATE:20270928
DTEND;VALUE=DATE:20271004
DTSTAMP:20260422T214547
CREATED:20260410T182850Z
LAST-MODIFIED:20260410T182850Z
UID:2174-1822089600-1822607999@dev.grieftograce.org
SUMMARY:Grief to Grace Retreat | Chicago/Rockford\, IL
DESCRIPTION:Contact:  info@grieftogracerockford.org \nWebsite: www.grieftogracerockford.org \nCall: Libby Oleferchik | 815-354-7241
URL:https://dev.grieftograce.org/event/grief-to-grace-retreat-chicago-rockford-il-2/
CATEGORIES:USA Retreats
END:VEVENT
END:VCALENDAR