BEGIN:VCALENDAR
VERSION:2.0
PRODID:-//Grief to Grace - ECPv6.15.20//NONSGML v1.0//EN
CALSCALE:GREGORIAN
METHOD:PUBLISH
X-WR-CALNAME:Grief to Grace
X-ORIGINAL-URL:https://dev.grieftograce.org
X-WR-CALDESC:Events for Grief to Grace
REFRESH-INTERVAL;VALUE=DURATION:PT1H
X-Robots-Tag:noindex
X-PUBLISHED-TTL:PT1H
BEGIN:VTIMEZONE
TZID:UTC
BEGIN:STANDARD
TZOFFSETFROM:+0000
TZOFFSETTO:+0000
TZNAME:UTC
DTSTART:20240101T000000
END:STANDARD
END:VTIMEZONE
BEGIN:VEVENT
DTSTART;VALUE=DATE:20250712
DTEND;VALUE=DATE:20250718
DTSTAMP:20260422T214921
CREATED:20250320T214540Z
LAST-MODIFIED:20250428T231121Z
UID:953-1752278400-1752796799@dev.grieftograce.org
SUMMARY:Grief to Grace Retreat | Houston\, TX
DESCRIPTION:FOR MORE INFORMATION\, AND TO REGISTER: \nEMAIL: G2GTEXAS@GRIEFTOGRACE.ORG\nCALL: 866-763-6557
URL:https://dev.grieftograce.org/event/grief-to-grace-retreat-houston-tx-2/
CATEGORIES:USA Retreats
END:VEVENT
BEGIN:VEVENT
DTSTART;VALUE=DATE:20250703
DTEND;VALUE=DATE:20250707
DTSTAMP:20260422T214921
CREATED:20250320T214537Z
LAST-MODIFIED:20250428T224202Z
UID:952-1751500800-1751846399@dev.grieftograce.org
SUMMARY:Grief to Grace Retreat | El Salvador
DESCRIPTION:FOR MORE INFORMATION\, AND TO REGISTER: \nEmail: anajuliahill01@gmail.com\nCall: Ana Julia Hill – 503 77297721\nCall: Nueva Alianza – 503 22987000
URL:https://dev.grieftograce.org/event/grief-to-grace-retreat-el-salvador/
CATEGORIES:Central America Retreats
END:VEVENT
BEGIN:VEVENT
DTSTART;VALUE=DATE:20250608
DTEND;VALUE=DATE:20250614
DTSTAMP:20260422T214921
CREATED:20250320T214533Z
LAST-MODIFIED:20250428T231506Z
UID:951-1749340800-1749859199@dev.grieftograce.org
SUMMARY:Grief to Grace Retreat | Phoenix\, AZ
DESCRIPTION:FOR MORE INFORMATION\, AND TO REGISTER: (Native American only) \nEMAIL: PHOENIX@GRIEFTOGRACE.ORG\n\nCALL: 480-215-6762
URL:https://dev.grieftograce.org/event/grief-to-grace-retreat-phoenix-az/
CATEGORIES:USA Retreats
END:VEVENT
BEGIN:VEVENT
DTSTART;VALUE=DATE:20250520
DTEND;VALUE=DATE:20250525
DTSTAMP:20260422T214921
CREATED:20250320T214529Z
LAST-MODIFIED:20250428T223856Z
UID:950-1747699200-1748131199@dev.grieftograce.org
SUMMARY:Grief to Grace Retreat | Kelowna\, Canada
DESCRIPTION:FOR MORE INFORMATION\, AND TO REGISTER: \nEMAIL: grieftogracekelowna@gmail.com\nCALL: 1-250-808-6403\nGrieftoGraceCanada.org
URL:https://dev.grieftograce.org/event/grief-to-grace-retreat-kelowna/
CATEGORIES:Canada Retreats
END:VEVENT
BEGIN:VEVENT
DTSTART;VALUE=DATE:20250505
DTEND;VALUE=DATE:20250511
DTSTAMP:20260422T214921
CREATED:20250320T214515Z
LAST-MODIFIED:20250428T231352Z
UID:949-1746403200-1746921599@dev.grieftograce.org
SUMMARY:Grief to Grace Retreat | Oceanside\, CA
DESCRIPTION:For more information and to register: \n \nEMAIL: info@allthingsnewca.org
URL:https://dev.grieftograce.org/event/grief-to-grace-retreat-oceanside-ca/
CATEGORIES:USA Retreats
END:VEVENT
BEGIN:VEVENT
DTSTART;VALUE=DATE:20250429
DTEND;VALUE=DATE:20250505
DTSTAMP:20260422T214921
CREATED:20250428T195721Z
LAST-MODIFIED:20250428T235427Z
UID:1524-1745884800-1746403199@dev.grieftograce.org
SUMMARY:Grief to Grace | Scotland
DESCRIPTION:FOR MORE INFORMATION\, AND TO REGISTER: \n  \nEmail: info@grieftograceuk.org \n\nCall: +44 208 154 2719
URL:https://dev.grieftograce.org/event/grief-to-grace-scotland/
CATEGORIES:Europe Retreats
END:VEVENT
BEGIN:VEVENT
DTSTART;VALUE=DATE:20250426
DTEND;VALUE=DATE:20250502
DTSTAMP:20260422T214921
CREATED:20250320T214512Z
LAST-MODIFIED:20250428T234909Z
UID:948-1745625600-1746143999@dev.grieftograce.org
SUMMARY:Grief to Grace Retreat | Houston\, TX
DESCRIPTION:FOR MORE INFORMATION\, AND TO REGISTER: \n  \nEMAIL: G2GTEXAS@GRIEFTOGRACE.ORG \nCALL: 866-763-6557
URL:https://dev.grieftograce.org/event/grief-to-grace-retreat-houston-tx/
CATEGORIES:USA Retreats
END:VEVENT
BEGIN:VEVENT
DTSTART;TZID=UTC:20250423T093000
DTEND;TZID=UTC:20250427T213000
DTSTAMP:20260422T214921
CREATED:20250320T214509Z
LAST-MODIFIED:20250321T151347Z
UID:947-1745400600-1745789400@dev.grieftograce.org
SUMMARY:Grief to Grace Retreat | Irapuato\, Guanajuato\, Mexico (Español)
DESCRIPTION:retirodeldoloralagraciairapuat@gmail.com\, Marcela Cepeda\, +52 462 272 4779\, Padre José Diego Gonzalez\, +52 462 116 1209
URL:https://dev.grieftograce.org/event/grief-to-grace-retreat-irapuato-guanajuato-espanol/
CATEGORIES:Mexico Retreats
END:VEVENT
BEGIN:VEVENT
DTSTART;TZID=UTC:20250403T103000
DTEND;TZID=UTC:20250406T113000
DTSTAMP:20260422T214921
CREATED:20250320T214505Z
LAST-MODIFIED:20250321T144843Z
UID:946-1743676200-1743939000@dev.grieftograce.org
SUMMARY:Grief to Grace Retreat | Colombia
DESCRIPTION:info@derechoanacer.org\, 316 743 7524\, 601 704 2752
URL:https://dev.grieftograce.org/event/grief-to-grace-retreat-colombia/
CATEGORIES:South America Retreats
END:VEVENT
BEGIN:VEVENT
DTSTART;TZID=UTC:20250401T123000
DTEND;TZID=UTC:20250405T223000
DTSTAMP:20260422T214921
CREATED:20250320T214503Z
LAST-MODIFIED:20250321T152534Z
UID:945-1743510600-1743892200@dev.grieftograce.org
SUMMARY:Grief to Grace Retreat | Lake Charles\, LA
DESCRIPTION:Marjorie Long\, GriefToGraceLouisiana@LCdiocese.org\, 337-489-2473
URL:https://dev.grieftograce.org/event/grief-to-grace-retreat-lake-charles-la/
CATEGORIES:USA Retreats
END:VEVENT
END:VCALENDAR