BEGIN:VCALENDAR
VERSION:2.0
PRODID:-//Grief to Grace - ECPv6.15.20//NONSGML v1.0//EN
CALSCALE:GREGORIAN
METHOD:PUBLISH
X-ORIGINAL-URL:https://dev.grieftograce.org
X-WR-CALDESC:Events for Grief to Grace
REFRESH-INTERVAL;VALUE=DURATION:PT1H
X-Robots-Tag:noindex
X-PUBLISHED-TTL:PT1H
BEGIN:VTIMEZONE
TZID:UTC
BEGIN:STANDARD
TZOFFSETFROM:+0000
TZOFFSETTO:+0000
TZNAME:UTC
DTSTART:20240101T000000
END:STANDARD
END:VTIMEZONE
BEGIN:VEVENT
DTSTART;VALUE=DATE:20250928
DTEND;VALUE=DATE:20251004
DTSTAMP:20260422T073147
CREATED:20250320T214603Z
LAST-MODIFIED:20250428T225217Z
UID:959-1759017600-1759535999@dev.grieftograce.org
SUMMARY:Grief to Grace Retreat | Phoenix\, AZ
DESCRIPTION:FOR MORE INFORMATION\, AND TO REGISTER: \nEMAIL: PHOENIX@GRIEFTOGRACE.ORG\nCALL: 480-215-6762
URL:https://dev.grieftograce.org/event/grief-to-grace-retreat-phoenix-az-3/
CATEGORIES:USA Retreats
END:VEVENT
BEGIN:VEVENT
DTSTART;VALUE=DATE:20251006
DTEND;VALUE=DATE:20251012
DTSTAMP:20260422T073147
CREATED:20250428T200422Z
LAST-MODIFIED:20250428T225559Z
UID:1529-1759708800-1760227199@dev.grieftograce.org
SUMMARY:Grief to Grace | Tulsa\, OK
DESCRIPTION:FOR MORE INFORMATION\, AND TO REGISTER: \nEmail: healing@cceok.org\nCall: 918-508-7136
URL:https://dev.grieftograce.org/event/grief-to-grace-tulsa-ok/
CATEGORIES:USA Retreats
END:VEVENT
BEGIN:VEVENT
DTSTART;VALUE=DATE:20251023
DTEND;VALUE=DATE:20251027
DTSTAMP:20260422T073147
CREATED:20250320T214612Z
LAST-MODIFIED:20250428T225443Z
UID:960-1761177600-1761523199@dev.grieftograce.org
SUMMARY:Grief to Grace Retreat | El Salvador
DESCRIPTION:FOR MORE INFORMATION\, AND TO REGISTER: \nEmail: anajuliahill01@gmail.com\nCall: Ana Julia Hill – 503 77297721\nCall: Nueva Alianza – 503 22987000
URL:https://dev.grieftograce.org/event/grief-to-grace-retreat-el-salvador-2/
CATEGORIES:Central America Retreats
END:VEVENT
BEGIN:VEVENT
DTSTART;VALUE=DATE:20251029
DTEND;VALUE=DATE:20251103
DTSTAMP:20260422T073147
CREATED:20250609T152643Z
LAST-MODIFIED:20250609T153720Z
UID:1875-1761696000-1762127999@dev.grieftograce.org
SUMMARY:Grief to Grace Retreat | Irapuato\, Guanajuato\, Mexico (Español)
DESCRIPTION:FOR MORE INFORMATION & TO REGISTER: \nEmail:  retirodeldoloralagraciairapuat@gmail.com \nCall:  Marcela Cepeda\, +52 462 272 4779 \nCall:  Padre José Diego Gonzalez\, +52 462 116 1209
URL:https://dev.grieftograce.org/event/grief-to-grace-retreat-irapuato-guanajuato-mexico-espanol/
CATEGORIES:Mexico Retreats
END:VEVENT
END:VCALENDAR